BEGIN:VCALENDAR
VERSION:2.0
PRODID:-//.::Crea Felicidad::. y el mundo estará contigo - ECPv6.15.20//NONSGML v1.0//EN
CALSCALE:GREGORIAN
METHOD:PUBLISH
X-WR-CALNAME:.::Crea Felicidad::. y el mundo estará contigo
X-ORIGINAL-URL:https://www.creafelicidad.com
X-WR-CALDESC:Eventos para .::Crea Felicidad::. y el mundo estará contigo
REFRESH-INTERVAL;VALUE=DURATION:PT1H
X-Robots-Tag:noindex
X-PUBLISHED-TTL:PT1H
BEGIN:VTIMEZONE
TZID:America/Bogota
BEGIN:STANDARD
TZOFFSETFROM:-0500
TZOFFSETTO:-0500
TZNAME:-05
DTSTART:20140101T000000
END:STANDARD
END:VTIMEZONE
BEGIN:VEVENT
DTSTART;TZID=America/Bogota:20150905T090000
DTEND;TZID=America/Bogota:20150905T170000
DTSTAMP:20260419T142148
CREATED:20150813T145512Z
LAST-MODIFIED:20150813T171709Z
UID:2510-1441443600-1441472400@www.creafelicidad.com
SUMMARY:Terapia REIKI - Sistema tradicional de Usúi.
DESCRIPTION:* A través de imposición de manos.\nEs un procedimiento que implica aprender a restaurar el equilibrio del campo energético que nos rodea a través de elevar nuestra percepción sensorial. \nTodos tenemos un campo energético o aura que envuelve nuestro cuerpo físico y penetra en el\, este campo de energía esta directamente relacionado con la salud y en general con todos los asuntos de nuestra vida. \nEl aprendizaje del Reiki sólo puede hacerse a través de un Maestro\, mediante un sistema de sintonización. \nConsistente en un ritual de origen oriental que instala los diferentes símbolos en el alumno\, tanto en el aura como en el cuerpo especialmente en las manos\, purificando su canal energético central\, permitiéndole conectarse completamente con la ilimitada e inagotable Energía Vital Universal\, quedando grabados definitivamente para que sean utilizados siempre que se desee. \n* Solo la intención del sanador es necesaria para que la energía fluya de forma natural. \nEl sistema tradicional de Usui se compone de tres niveles\, primero\, segundo y Maestría\, . el sistema enseñado en este taller es el Usui-Tibetano\, añade cuatro símbolos redescubiertos y utilizados por sanadores en el Tíbet. \n\n[box icon=»magic» style=»simple»] \nPrimer nivel \nLa iniciación en este nivel\, armoniza y libera los canales energéticos\, permitiendo al alumno conectarse de por vida con la energía cósmica para así poder transmitirla como un sistema de sanación con sus manos. \nSegundo nivel \nLos símbolos enseñados en este nivel aumentan considerablemente la vibración de la energía\, actuando en niveles más profundos como el mental y el emocional.\nEn este nivel aprendemos a enviar sanación a distancia. \nMaestría: \nLa iniciación en este nivel proporciona la capacidad de pasar la sintonización a otras personas; además\, permite expandir la consciencia y el autoconocimiento. \n[/box] \n[divider style=»none»] \n[/divider] \nBeneficios:\n[list type=»circle» style=»simple» icon=»anchor» icon_color=»#1e73be»] \nLa energía Reiki posee su propia inteligencia\, que actuará en los planos específicos que el receptor necesite\, bien sea el físico\, el mental o el espiritual. \n1. El Reiki estabiliza todas las disfunciones Metabólicas\, Endocrinas\, Inmunitarias y Digestivas. \n2. Armoniza y relaja el sistema Nervioso y actúa en todo tipo de enfermedades. y Adicciones. \n3. Proporciona una profunda relajación\, que libera las Tensiones\, el Estrés y el Insomnio. \n4. Limpia y Desintoxica todos los órganos\, incluido el sistema Circulatorio. \n5. Alivia notablemente los dolores\, tanto musculares como articulares\, y ayuda a soldar las fracturas. \n6 El Reiki potencia los efectos curativos de la Medicación Farmacológica y de cualquier otro sistema terapéuticos. \n[/list] \n[divider style=»none»] \n[/divider] \n* El Reiki trabaja positivamente con todos los campos de la sanación. \nEs a su vez un camino interior que te permite auto obsérvate y te abre a la posibilidad de corregir aquello que identificas que puedas corregir y así proporcionarte una mejor calidad de vida. \n[divider style=»none»] \n[/divider] \n[one_third valign=»top» animation=»none»] \n[message type=»info»] \nInversión\n$ 500.000 \n[/message] \n[/one_third] \n[one_third valign=»top» animation=»none»] \n[message type=»success»] \nHorario:\n9:00 a.m. – 5:00 p.m. \n[/message] \n[/one_third] \n[one_third_last valign=»top» animation=»none»] \n[message type=»info»] \nContacto Información:\n313 328 09 51 \n[/message] \n[/one_third_last] \n[divider style=»none»] \n[/divider] \n[two_third valign=»top» animation=»none»] \n¡Armoniza tu cuerpo y tu espíritu!\nSepara ya mismo tu cupo\, son limitados.\n[contact-form-7 id=»2513″ title=»Contacto Terapia Reiki»][/contact-form-7] \n[/two_third] \n[one_third_last valign=»top» animation=»none»] \n \n[/one_third_last]
URL:https://www.creafelicidad.com/evento/terapia-reiki-sistema-tradicional-de-usui/
LOCATION:Bogotá\, Colombia\, Bogota\, Colombia
CATEGORIES:creaFelicidad,Talleres
ATTACH;FMTTYPE=image/jpeg:https://www.creafelicidad.com/wp-content/uploads/2015/08/terapia-reiki-usui-bogota-sanacion-crea-felicidad.jpg
END:VEVENT
BEGIN:VEVENT
DTSTART;TZID=America/Bogota:20150905T090000
DTEND;TZID=America/Bogota:20150905T170000
DTSTAMP:20260419T142148
CREATED:20150813T192227Z
LAST-MODIFIED:20150827T130117Z
UID:2516-1441443600-1441472400@www.creafelicidad.com
SUMMARY:Terapia de registros Akashicos
DESCRIPTION:Los registros Akashicos son memoria universal de la existencia.\nExiste un espacio multidimensional donde se archivan todas las experiencias del ser\, ancestros\, vida presente y potencial futuro\, a este sistema energético se accede por medio de la videncia. \n[divider style=»none»] \n[/divider] \n[two_third valign=»top» animation=»none»] \nBeneficios:\n\nEste conocimiento ancestral nos abre los ojos a una dimensión más allá de las circunstancias de nuestra vida.\nNos aproxima a comprender nuestra naturaleza y el porqué de los eventos de nuestra vida\, nos revela información que subyace más allá de las apariencias y nos acerca al poder de manifestar nuestro futuro potencial.\nDevelaremos el por qué estamos aquí\, cual es nuestra misión en el mundo y por qué sucede lo que sucede en nuestras vidas dándonos la oportunidad de corregir errores y manifestar aquello que nos hace feliz.\n\n[/two_third] \n[one_third_last valign=»top» animation=»none»] \n \n[/one_third_last] \n[divider style=»none»] \n[/divider] \n[one_third valign=»top» animation=»none»] \n[box icon=»play» style=»solid»] \nSesión virtual \n[/box] \n[/one_third] \n[one_third valign=»top» animation=»none»] \n[box icon=»check» style=»solid»] \nSesión presencial \n[/box] \n[/one_third] \n[one_third_last valign=»top» animation=»none»] \n[box icon=»sun» style=»solid»] \nDuración: 2 horas \n[/box] \n[/one_third_last] \n[divider style=»none»] \n[/divider] \n[two_third valign=»top» animation=»none»] \n¡Descubre tu propósito de vida!\nSepara ya mismo tu cupo\, son limitados.\n[contact-form-7 id=»2522″ title=»Contacto Sesión lectura de registro Akashicos»][/contact-form-7] \n[/two_third] \n[one_third_last valign=»top» animation=»none»] \n \nContacto: María Flora Barrios\nCelular: 313 328 09 51 \n[/one_third_last]
URL:https://www.creafelicidad.com/evento/terapia-de-registros-akashicos/
LOCATION:Bogotá\, Colombia\, Bogota\, Colombia
CATEGORIES:creaFelicidad,Talleres
ATTACH;FMTTYPE=image/jpeg:https://www.creafelicidad.com/wp-content/uploads/2015/08/terapia-de-registros-akashicos.jpg
END:VEVENT
END:VCALENDAR