BEGIN:VCALENDAR
VERSION:2.0
PRODID:-//.::Crea Felicidad::. y el mundo estará contigo - ECPv6.15.20//NONSGML v1.0//EN
CALSCALE:GREGORIAN
METHOD:PUBLISH
X-ORIGINAL-URL:https://www.creafelicidad.com
X-WR-CALDESC:Eventos para .::Crea Felicidad::. y el mundo estará contigo
REFRESH-INTERVAL;VALUE=DURATION:PT1H
X-Robots-Tag:noindex
X-PUBLISHED-TTL:PT1H
BEGIN:VTIMEZONE
TZID:America/Bogota
BEGIN:STANDARD
TZOFFSETFROM:-0500
TZOFFSETTO:-0500
TZNAME:-05
DTSTART:20130101T000000
END:STANDARD
END:VTIMEZONE
BEGIN:VEVENT
DTSTART;TZID=America/Bogota:20150801T080000
DTEND;TZID=America/Bogota:20150802T170000
DTSTAMP:20260424T074225
CREATED:20150310T171026Z
LAST-MODIFIED:20220221T185958Z
UID:1825-1438416000-1438534800@www.creafelicidad.com
SUMMARY:PNL: Certificación Modular en PNL - Primer módulo
DESCRIPTION:
URL:https://www.creafelicidad.com/evento/pnl-certificacion-modular-en-pnl/
LOCATION:Bogotá\, Colombia\, Bogota\, Colombia
CATEGORIES:PNL
ATTACH;FMTTYPE=image/jpeg:https://www.creafelicidad.com/wp-content/uploads/2015/11/Cerafelicidad-miniatura.jpg
ORGANIZER;CN="Unnamed Organizer":MAILTO:sonrie@creafelicidad.com
END:VEVENT
BEGIN:VEVENT
DTSTART;TZID=America/Bogota:20150620T180000
DTEND;TZID=America/Bogota:20150620T200000
DTSTAMP:20260424T074225
CREATED:20150116T224817Z
LAST-MODIFIED:20150214T133959Z
UID:1453-1434823200-1434830400@www.creafelicidad.com
SUMMARY:Webinar: Somos lo que pensamos
DESCRIPTION:
URL:https://www.creafelicidad.com/evento/webinars-potencializa-tu-mente-5/
LOCATION:Virtual\, Virtual\, Colombia\, Bogota\, Colombia
CATEGORIES:Webinars
END:VEVENT
BEGIN:VEVENT
DTSTART;TZID=America/Bogota:20150620T090000
DTEND;TZID=America/Bogota:20150621T110000
DTSTAMP:20260424T074225
CREATED:20150310T150607Z
LAST-MODIFIED:20150310T160139Z
UID:1815-1434790800-1434884400@www.creafelicidad.com
SUMMARY:Curso: Introducción a la PNL - Potenciando la mente
DESCRIPTION:
URL:https://www.creafelicidad.com/evento/curso-introduccion-a-la-pnl-potenciando-la-mente-2/
LOCATION:Bogotá\, Colombia\, Bogota\, Colombia
CATEGORIES:Talleres
ATTACH;FMTTYPE=image/jpeg:https://www.creafelicidad.com/wp-content/uploads/2015/03/curso_introduccion_a_la_pnl_potenciando_mentes.jpg
END:VEVENT
BEGIN:VEVENT
DTSTART;TZID=America/Bogota:20150516T180000
DTEND;TZID=America/Bogota:20150516T200000
DTSTAMP:20260424T074225
CREATED:20150116T224740Z
LAST-MODIFIED:20150214T133930Z
UID:1452-1431799200-1431806400@www.creafelicidad.com
SUMMARY:Webinar: Como tener una vida saludable
DESCRIPTION:
URL:https://www.creafelicidad.com/evento/webinars-potencializa-tu-mente-4/
LOCATION:Virtual\, Virtual\, Colombia\, Bogota\, Colombia
CATEGORIES:Webinars
END:VEVENT
BEGIN:VEVENT
DTSTART;TZID=America/Bogota:20150418T180000
DTEND;TZID=America/Bogota:20150418T200000
DTSTAMP:20260424T074225
CREATED:20150116T224558Z
LAST-MODIFIED:20150214T133853Z
UID:1451-1429380000-1429387200@www.creafelicidad.com
SUMMARY:Webinar: Dejando los Apegos
DESCRIPTION:
URL:https://www.creafelicidad.com/evento/webinars-potencializa-tu-mente-3/
LOCATION:Virtual\, Virtual\, Colombia\, Bogota\, Colombia
CATEGORIES:Webinars
END:VEVENT
BEGIN:VEVENT
DTSTART;TZID=America/Bogota:20150418T090000
DTEND;TZID=America/Bogota:20150418T170000
DTSTAMP:20260424T074225
CREATED:20150317T153912Z
LAST-MODIFIED:20150317T153912Z
UID:1887-1429347600-1429376400@www.creafelicidad.com
SUMMARY:Taller: Mujeres
DESCRIPTION:
URL:https://www.creafelicidad.com/evento/taller-mujeres/
LOCATION:Bogotá\, Colombia\, Bogota\, Colombia
CATEGORIES:Talleres
ORGANIZER;CN="Unnamed Organizer":MAILTO:sonrie@creafelicidad.com
END:VEVENT
BEGIN:VEVENT
DTSTART;TZID=America/Bogota:20150418T090000
DTEND;TZID=America/Bogota:20150418T170000
DTSTAMP:20260424T074225
CREATED:20150317T152736Z
LAST-MODIFIED:20150317T153439Z
UID:1885-1429347600-1429376400@www.creafelicidad.com
SUMMARY:Taller: de la Mente al Corazón
DESCRIPTION:
URL:https://www.creafelicidad.com/evento/taller-de-la-mente-al-corazon-2/
LOCATION:Bogotá\, Colombia\, Bogota\, Colombia
CATEGORIES:Talleres
ATTACH;FMTTYPE=image/jpeg:https://www.creafelicidad.com/wp-content/uploads/2015/03/taller_de_la_mente_al_corazón_creafelicidad.jpg
ORGANIZER;CN="Unnamed Organizer":MAILTO:sonrie@creafelicidad.com
END:VEVENT
BEGIN:VEVENT
DTSTART;VALUE=DATE:20150411
DTEND;VALUE=DATE:20150413
DTSTAMP:20260424T074225
CREATED:20150310T151209Z
LAST-MODIFIED:20150310T155822Z
UID:1816-1428710400-1428883199@www.creafelicidad.com
SUMMARY:Taller: Creafelicidad
DESCRIPTION:
URL:https://www.creafelicidad.com/evento/taller-creafelicidad/
LOCATION:Bogotá\, Colombia\, Bogota\, Colombia
CATEGORIES:Talleres
ATTACH;FMTTYPE=image/jpeg:https://www.creafelicidad.com/wp-content/uploads/2015/03/taller_creafelicidad_bogota.jpg
END:VEVENT
BEGIN:VEVENT
DTSTART;TZID=America/Bogota:20150401T090000
DTEND;TZID=America/Bogota:20150402T110000
DTSTAMP:20260424T074225
CREATED:20150310T150315Z
LAST-MODIFIED:20150716T001909Z
UID:1814-1427878800-1427972400@www.creafelicidad.com
SUMMARY:Curso: Introducción a la PNL - Potenciando la mente
DESCRIPTION:
URL:https://www.creafelicidad.com/evento/curso-introduccion-a-la-pnl-potenciando-la-mente/
LOCATION:Bogotá\, Colombia\, Bogota\, Colombia
CATEGORIES:Talleres
ATTACH;FMTTYPE=image/jpeg:https://www.creafelicidad.com/wp-content/uploads/2015/03/curso_introduccion_a_la_pnl_potenciando_mentes.jpg
END:VEVENT
BEGIN:VEVENT
DTSTART;TZID=America/Bogota:20150321T180000
DTEND;TZID=America/Bogota:20150321T200000
DTSTAMP:20260424T074225
CREATED:20150116T224455Z
LAST-MODIFIED:20150317T164236Z
UID:1450-1426960800-1426968000@www.creafelicidad.com
SUMMARY:Webinar: Como Comunicarte Mejor
DESCRIPTION:
URL:https://www.creafelicidad.com/evento/webinars-potencializa-tu-mente-2/
LOCATION:Virtual\, Virtual\, Colombia\, Bogota\, Colombia
CATEGORIES:Webinars
END:VEVENT
BEGIN:VEVENT
DTSTART;TZID=America/Bogota:20141123T090000
DTEND;TZID=America/Bogota:20141123T170000
DTSTAMP:20260424T074225
CREATED:20141104T170528Z
LAST-MODIFIED:20150716T004013Z
UID:541-1416733200-1416762000@www.creafelicidad.com
SUMMARY:Taller Descubre tus talentos
DESCRIPTION:Nuestra experiencia de vida personal nos enseña que para lograr el éxito\, es indispensable conectarnos con nuestras verdaderas capacidades\, con aquello que en realidad deseamos hacer y para lo cual poseamos capacidades o habilidades especiales\, de las cuales en su mayoría no somos concientes y no explotamos en su totalidad\, entonces… ¿quieres lograrlo?\, te interesa saber ¿cómo hacerlo?  En este taller te enseñamos a descubrir  y desarrollar tus talentos. \nBeneficios de tomar este taller\n[one_third valign=»top» animation=»none»] \n[progress_circle value=»100″ style=»simple» icon=»smile» text_color=»#df107c» bg_color=»#df107c»] \n[/progress_circle] \n[toggle state=»on» style=»solid» icon=»cny»] \nHabrás descubierto tus talentos\, sabrás como desarrollarlos y establecer metas claras. \n[/toggle] \n[/one_third] \n[one_third valign=»top» animation=»none»] \n[progress_circle value=»100″ style=»simple» icon=»sun» text_color=»#117bc0″ bg_color=»#117bc0″] \n[/progress_circle] \n[toggle state=»on» style=»solid» icon=»cny»] \nTe sentirás más confiado y optimista para conquistar tu futuro. \n[/toggle] \n[/one_third] \n[one_third_last valign=»top» animation=»none»] \n[progress_circle value=»100″ style=»simple» icon=»camera» text_color=»#f3c510″ bg_color=»#f3c510″] \n[/progress_circle] \n[toggle state=»on» style=»solid» icon=»adn»] \nAbrir tu mente para más y mejores desafíos \n[/toggle] \n[/one_third_last] \nContenidos que trabajaremos\n[three_fourth valign=»top» animation=»none»] \n[tabs position=»top-left» style=»simple» type=»click»] \n[tab_title] \n8:00 a.m. a 12:00 m \n[/tab_title] \n[tab_content] \nQué son mis talentos y cómo puedo descubrirlos.\nReflexión personal: \n\nAbriendo mi mente\nRevisando mi pasado\n¿Qué disfruto?\n¿Para qué soy bueno?\nRelato de mi vida\nQué opinan los demás sobre mí\n\n[/tab_content] \n[tab_title] \n2:00 p.m. a 6:00 p.m \n[/tab_title] \n[tab_content] \nExperimentando parte de la vida. \n\nHacer cosas nuevas\nSaco tiempo para mi\nPotenciando mis habilidades\nDesarrollaré actividades que nunca antes hice\nViajar mi objetivo para ampliar mis horizontes\nEncarando mis nuevos desafíos\nYo como voluntario\n\nConclusiones y cierre. \n[/tab_content] \n[tab_title] \nCómo trabajamos \n[/tab_title] \n[tab_content] \n\nTrabajo individual\, personalizado\, te ayudamos a descubrir\, desarrollar y aprovechar tus talentos\, con procesos aplicados a ti como ser humano.\nNuestro trabajo es práctico y divertido\, basado en metodologías novedosas\, donde la diversión aplicada a un proceso serio\, te garantiza una mejor interiorización de lo aprendido.\nAcompañamiento permanente\, durante el taller estaremos contigo en todo momento revisando y apoyando tu evolución y si así lo deseas\, después del mismo a través del correo electrónico\, Skype o nuestra reunión de los jueves.\nTe capacitamos\, a través de talleres de refuerzo y orientación de 4 a 8 horas de duración. En cada uno de los cuales encontrarás herramientas para conocerte mejor e ir potencializando tus habilidades.\n\n[/tab_content] \n[/tabs] \n[/three_fourth] \n[one_fourth_last valign=»top» animation=»none»] \n \n[/one_fourth_last] \nSi Cancelas antes del 10 de noviembre tienes un descuento adicional del 10%.\n[button size=»big» link=»http://www.creafelicidad.com/contactanos/» icon=»heart»]Inscríbete[/button] \nSepara ya mismo tu cupo\, son limitados.
URL:https://www.creafelicidad.com/evento/taller-descubre-tus-talentos/
LOCATION:La Calera\, Bogotá\, Bogotá\, Colombia
CATEGORIES:creaFelicidad
ATTACH;FMTTYPE=image/jpeg:https://www.creafelicidad.com/wp-content/uploads/2014/11/talleres_para_descubrir_tus_talentos_bogota.jpg
END:VEVENT
END:VCALENDAR